BEGIN:VCALENDAR
VERSION:2.0
PRODID:-//Osli App//Events//HU
CALSCALE:GREGORIAN
METHOD:PUBLISH
BEGIN:VEVENT
UID:1b94311e-9212-41a0-9eab-59819246d662@osli.app
DTSTAMP:20260423T223706Z
DTSTART;VALUE=DATE:20270123
DTEND;VALUE=DATE:20270124
SUMMARY:Iparos bál
DESCRIPTION:
LOCATION:Osli
END:VEVENT
END:VCALENDAR